BEGIN:VCALENDAR
PRODID:dca.georgia.gov
VERSION:2.0
CALSCALE:GREGORIAN
BEGIN:VEVENT
UID:a857ccdddb58e85ac129dd693aa7071a
DTSTAMP:20260421T185719Z
SUMMARY:Georgia Housing Search Webinar
URL:https://dca.georgia.gov/events/2026-04-18/georgia-housing-search-webina
 r
DTSTART;VALUE=DATE:20260418
DTEND;VALUE=DATE:20260419
X-LIC-LOCATION:America/New_York
X-WR-TIMEZONE:America/New_York
END:VEVENT
BEGIN:VTIMEZONE
TZID:America/New_York
END:VTIMEZONE
END:VCALENDAR
