BEGIN:VCALENDAR
PRODID:dca.georgia.gov
VERSION:2.0
CALSCALE:GREGORIAN
BEGIN:VEVENT
UID:3f0262fc2159d74dcc6b26ff84555a29
DTSTAMP:20260420T050627Z
SUMMARY:DCA Board Meeting - November 2026
URL:https://dca.georgia.gov/events/2026-11-18/dca-board-meeting-november-20
 26
DTSTART;VALUE=DATE:20261118
DTEND;VALUE=DATE:20261120
X-LIC-LOCATION:America/New_York
X-WR-TIMEZONE:America/New_York
END:VEVENT
BEGIN:VTIMEZONE
TZID:America/New_York
END:VTIMEZONE
END:VCALENDAR
