BEGIN:VCALENDAR
PRODID:dca.georgia.gov
VERSION:2.0
CALSCALE:GREGORIAN
BEGIN:VEVENT
UID:fda8ebd442bd4c646badb2ccc8e66513
DTSTAMP:20260420T050627Z
SUMMARY:DCA Board Meeting - August 2026
URL:https://dca.georgia.gov/events/2026-08-12/dca-board-meeting-august-2026
DTSTART;VALUE=DATE:20260812
LOCATION:60 Executive Park South\, NE  Atlanta\, GA 30329 US
X-LIC-LOCATION:America/New_York
X-WR-TIMEZONE:America/New_York
END:VEVENT
BEGIN:VTIMEZONE
TZID:America/New_York
END:VTIMEZONE
END:VCALENDAR
