BEGIN:VCALENDAR
PRODID:dca.georgia.gov
VERSION:2.0
CALSCALE:GREGORIAN
BEGIN:VEVENT
UID:553fa79f5add95e1394d7ec32fc9ae04
DTSTAMP:20260420T050732Z
SUMMARY:DCA Board Meeting - May 2026
URL:https://dca.georgia.gov/events/2026-05-06/dca-board-meeting-may-2026
DTSTART;VALUE=DATE:20260506
DTEND;VALUE=DATE:20260508
X-LIC-LOCATION:America/New_York
X-WR-TIMEZONE:America/New_York
END:VEVENT
BEGIN:VTIMEZONE
TZID:America/New_York
END:VTIMEZONE
END:VCALENDAR
