BEGIN:VCALENDAR
PRODID:dca.georgia.gov
VERSION:2.0
CALSCALE:GREGORIAN
BEGIN:VEVENT
UID:06eb3f69a79f7fc143e34aa11824935c
DTSTAMP:20260423T094224Z
SUMMARY:National Register Review Board - May 2026
DESCRIPTION:Meeting Agenda\n\nNational Register Review Board Meeting - May 
 2026 AgendaProperty Details \n\nFirst National Bank Building\; Atlanta\, 
 Fulton County \n\nF. W. Woolworth Building\; Savannah\, Chatham County \
 n\nSouth-View Cemetery\; Atlanta\, Fulton County  \n\nPercy H. and Harri
 et P. Stone House\; Savannah\, Chatham County\n\n \n\nModern Downtown Atl
 anta\, 1945-1990 Multiple Property Documentation Form - Summary Forthcomin
 g
URL:https://dca.georgia.gov/events/2026-05-01/national-register-review-boar
 d-may-2026
DTSTART;VALUE=DATE:20260501
DTEND;VALUE=DATE:20260502
X-LIC-LOCATION:America/New_York
X-WR-TIMEZONE:America/New_York
END:VEVENT
BEGIN:VTIMEZONE
TZID:America/New_York
END:VTIMEZONE
END:VCALENDAR
