Workbook
Name _Toc211432252: Sheet1!$A$23
Name _Toc211432253: Sheet1!$B$23
Name _Toc211432254: Sheet1!$C$23
Name _Toc211432255: Sheet1!$D$23
Name _Toc211432256: Sheet1!$E$23
Name _Toc211432257: Sheet1!$A$24
Name _Toc211432258: Sheet1!$A$24
Name _Toc211432259: Sheet1!$B$24
Name _Toc211432260: Sheet1!$C$24
Name _Toc211432261: Sheet1!$D$24
Name _Toc211432262: Sheet1!$E$24
Name _Toc211432263: Sheet1!$A$25

Sheet Project Narrative
A1: Project Narrative
A2: ='Part I-Project Identification'!F27 -> Westchester Village II
A3: =CONCATENATE('Part I-Project Identification'!F28,", ", 'Part I-Project Identification'!J28," County") -> Jonesboro, Clayton County
A5: << Enter paragraphs here. Press and hold Alt-Enter to start new paragraphs. Please do NOT use space lines between paragraphs - use indentation instead.>> | B5: NOTE: Row size may be increased or decreased as needed. Press and hold Alt-Enter to start new paragraphs in the same box. Please do NOT insert blank lines between paragraphs. Use outline numbering, bullet points, and/or indentation instead.

Sheet Part I-Project Identification
B1: Labels | F1: LocationValues1 | G1: Latitude | H1: Unit Count/Tenancy/Pool | I1: LocationLabels2 | J1: Longitude/LocationValues2 | K1: TC Election | N1: QCT | O1: Tract/MSA | P1: DDA/Unit Area | Z1: 1
A2: =CONCATENATE("Part I-Project Identification"," - ",$O$7," ",$F$27,", ",$F$28,", ",J28," County") -> Part I-Project Identification - 2026-0xx Westchester Village II, Jonesboro, Clayton County | Z2: 2 | AA2: 1
Z3: 3 | AA3: 2
A4: The Georgia Department of Community Affairs (DCA) is committed to providing all persons with equal access to its services, programs, activities, education and employment regardless of race, color, national origin, religion, sex, familial status, disability or age. For a reasonable accommodation please email hfdround@dca.ga.gov. For the best operability of this workbook, fill out both the blue cells and the Tabs/Parts in order of appearance. If you encounter issues with this workbook's operation, simply email allocation@dca.ga.gov with a detailed description of the problem and attach a copy of your core application. Please include the Tab / Part Number and Name and the cell reference (column letter, row number) where the issue occurs. | Z4: 4 | AA4: 3
Z5: 5 | AA5: 4
A6: May XX, 2026 | G6: Blue-shaded cells are unlocked for Applicant use and do not contain references/formulas. | P6: DCA Use ONLY - Project Nbr: | Z6: 6 | AA6: 5
G7: Green-shaded cells unlocked for Applicant use but do contain default references/formulas able to be overwritten. | O7: 2026-0xx | Q7: Please note: Any questions asked in this Excel core application workbook that are necessarily replicated in the Emphasys System core application must have identical answers in both places. | Z7: 7 | AA7: 6
G8: Yellow cells - DCA Use ONLY | Z8: 8 | AA8: 7
Z9: 9 | AA9: 8
A10: I. | B10: DCA RESOURCES | F10: LIHTC (auto-filled from later entries) | I10: ='Part III-A-Uses of Funds'!$J$192 -> 1350000 | L10: DCA HOME (from Consent Form) | O10: ='Part II-Sources of Funds'!$H$6 -> 0 | Z10: 10 | AA10: 9
Z11: 11 | AA11: 10
A12: II. | B12: TYPE OF APPLICATION | F12: 9% Credits | I12: --> REQUIRED: | J12: Determination Number (if applies) - use format 2026PA-### | O12: 2026-PA123 | Z12: 12 | AA12: 11
F13: If 4% Credit, does Owner or Developer have a 4% Credits/Bonds property that received an LOD from DCA in 2022 or earlier? | P13: No | Z13: 13 | AA13: 12
M14: Is this project New Construction? | P14: Yes | Z14: 14
B15: =IF('Part I-Project Identification'!$F$12="9% Credits","9%", IF('Part I-Project Identification'!$F$12="4% Credits/Bonds","4%","")) -> 9% | Z15: 15 | AA15: 13
A16: III. | B16: APPLICANT CONTACT FOR APPLICATION SUBMISSION AND REVIEW | I16: (Enter all phone numbers without using hyphens, parentheses, decimals, etc - for example: 1234567890) | Z16: 16 | AA16: 14
B17: Organization Name | F17: Westchester Ventures, LLC | I17: Contact | J17: Philip Searles | M17: Title | N17: Principal | Z17: 17 | AA17: 15
B18: Office Phone | F18: 6784676861 | I18: Ext. | M18: Direct Line | N18: 6784676861 | Z18: 18 | AA18: 16
B19: E-mail | F19: philipsearles@gmail.com | M19: Cellular | N19: 6784676861 | Z19: 19 | AA19: 17
B20: Alternate Contact | Z20: 20 | AA20: 18
B21: Organization Name | I21: Contact | M21: Title | Z21: 21 | AA21: 19
B22: Office Phone | I22: Ext. | M22: Direct Line | Z22: 22 | AA22: 20
B23: E-mail | M23: Cellular | Z23: 23 | AA23: 21
Z24: 24 | AA24: 22
A25: IV. | B25: PROJECT LOCATION | Z25: 25 | AA25: 23
Z26: 26 | AA26: 24
B27: Project Name | F27: Westchester Village II | M27: QCT? | P27: No | Z27: 27 | AA27: 25
B28: City | F28: Jonesboro | I28: County | J28: =IF(F28="","",VLOOKUP(F28,'DCA Underwriting Assumptions'!$T$167:$U$796,2,FALSE)) -> Clayton | M28: DDA? | P28: No | Z28: 28 | AA28: 26
B29: Site is predominantly located within: | F29: Unincorporated County | J29: (Adjust County if needed) | M29: Site Acreage | O29: 7.44 | Z29: 29 | AA29: 27
B30: In USDA Rural Area? | F30: No | J30: Overall: | K30: =IF(F30="Yes","Rural","Urban") -> Urban | M30: HUD SA: | N30: =VLOOKUP($J$28,'DCA Underwriting Assumptions'!$G$167:$J$326,4) -> MSA | O30: =IF($F$28="","",VLOOKUP($J$28,'DCA Underwriting Assumptions'!$G$167:$L$326,3,FALSE)) -> Atlanta-Sandy Springs-Marietta | Z30: 30 | AA30: 28
Z31: 31 | AA31: 29
A32: V. | B32: WAIVERS AND/OR PRE-APPROVALS | Z32: 32 | AA32: 30
Z33: 33 | AA33: 31
B34: Have the following waivers and/or pre-approvals been approved by DCA? | Z34: 34 | AA34: 32
Z35: 35 | AA35: 33
C36: HOME Consent? | L36: State Basis Boost (extraordinary circumstances) | Z36: 36 | AA36: 34
C37: Cost Limit? | J37: If Yes, new Limit is -------------------------------------------->: | Z37: 37 | AA37: 35
C38: Operating Expense? | I38: No | J38: If Yes, new Limit is -------------------------------------------->: | Z38: 38 | AA38: 36
C39: Credit Award Limitation (extraordinary circumstances)? | I39: No | J39: If Yes, new Limit is -------------------------------------------->: | Z39: 39 | AA39: 37
Z40: 40 | AA40: 38
...

Sheet Part II-Development Team
D1: IOI Labels | E1: Labels | F1: IOI Values | H1: Values1 | J1: OwnerZip | K1: Labels2 | L1: Values2 | M1: OwnerOrgType | O1: Labels3 | Q1: Values3 | Z1: 1
A2: =CONCATENATE("PART TWO - DEVELOPMENT TEAM INFORMATION"," - ",#REF!," ",#REF!,", ",#REF!,", ",#REF!," County") -> #REF! | Z2: 2
A3: Do NOT delete this tab from this workbook. Do NOT Copy from another workbook to "Paste" here - use "Paste Special", select "Values" instead, only on contiguous blue cells. | Z3: 3
A4: I. | B4: OWNERSHIP INFORMATION | H4: (Enter 10-Digit phone nbrs w/out using hyphens, parentheses, etc - ex: 1234567890) | O4: =#REF! -> #REF! | Z4: 4
Z5: 5
B6: A. | C6: OWNERSHIP ENTITY | H6: (Enter name as it will appear on all legal documents) | O6: Name of Principal | Z6: 6
E7: Office Street Address | O7: Title of Principal | Z7: 7
E8: City | K8: Fed Tax ID: | O8: Direct Line | Z8: 8
E9: State | I9: Zip+4 | L9: Org Type: | O9: Cellular | Z9: 9
E10: 10-digit Entity Office Phone / Ext. | K10: E-mail | Z10: 10
E11: (Enter 10-Digit phone nbrs w/out using hyphens, parentheses, etc - ex: 1234567890) | N11: * Must be verified by applicant using following website: | Z11: 11
Z12: 12
B13: B. | C13: PROPOSED PARTNERSHIP INFORMATION | N13: http://zip4.usps.com/zip4/welcome.jsp | Z13: 13
C14: 1. | D14: GENERAL PARTNER(S) | Z14: 14
D15: a. | E15: Managing Gen'l Partner | O15: Name of Principal | Z15: 15
E16: Office Street Address | O16: Title of Principal | Z16: 16
E17: City | K17: Website | O17: Direct Line | Z17: 17
E18: State | K18: Zip+4 | O18: Cellular | Z18: 18
E19: 10-digit Entity Office Phone / Ext. | K19: E-mail | Z19: 19
Z20: 20
D21: b. | E21: Other General Partner | O21: Name of Principal | Z21: 21
E22: Office Street Address | O22: Title of Principal | Z22: 22
E23: City | K23: Website | O23: Direct Line | Z23: 23
E24: State | K24: Zip+4 | O24: Cellular | Z24: 24
E25: 10-digit Entity Office Phone / Ext. | K25: E-mail | Z25: 25
Z26: 26
D27: c. | E27: Other General Partner | O27: Name of Principal | Z27: 27
E28: Office Street Address | O28: Title of Principal | Z28: 28
E29: City | K29: Website | O29: Direct Line | Z29: 29
E30: State | K30: Zip+4 | O30: Cellular | Z30: 30
E31: 10-digit Entity Office Phone / Ext. | K31: E-mail | Z31: 31
Z32: 32
C33: 2. | D33: LIMITED PARTNERS (PROPOSED OR ACTUAL) | K33: (Enter 10-Digit phone nbrs w/out using hyphens, parentheses, etc - ex: 1234567890) | Z33: 33
D34: a. | E34: Federal Limited Partner | O34: Name of Principal | Z34: 34
E35: Office Street Address | O35: Title of Principal | Z35: 35
E36: City | K36: Website | O36: Direct Line | Z36: 36
E37: State | K37: Zip+4 | O37: Cellular | Z37: 37
E38: 10-digit Entity Office Phone / Ext. | K38: E-mail | Z38: 38
Z39: 39
D40: b. | E40: State Limited Partner | O40: Name of Principal | Z40: 40
...

Sheet Part II-Sources of Funds
B1: Labels | E1: PermName | H1: ConstEntity | I1: PermAmt | K1: PermInt | L1: ConstAmt/PermTerm | M1: PermAmort | N1: ConstInt/PermType | P1: ConstTerm/PermDebtServ | Z1: 1
A2: =CONCATENATE("PART TWO - SOURCES OF FUNDS (Proposed)"," - ",'Part I-Project Identification'!$O$7," ",'Part I-Project Identification'!$F$27,", ",'Part I-Project Identification'!$F$28,", ",'Part I-Project Identification'!$J$28," County") -> PART TWO - SOURCES OF FUNDS (Proposed) - 2026-0xx Westchester Village II, Jonesboro, Clayton County | S2: =$A$2 -> PART TWO - SOURCES OF FUNDS (Proposed) - 2026-0xx Westchester Village II, Jonesboro, Clayton County | Z2: 2
Z3: 3
A4: I. | B4: GOVERNMENT FUNDING SOURCES (check all that apply) | L4: ='Part I-Project Identification'!$A$6 -> May XX, 2026 | S4: =B4 -> GOVERNMENT FUNDING SOURCES (check all that apply) | Z4: 4
S5: DCA COMMENTS - DCA Use Only | Z5: 5
B6: Yes | C6: Tax Credits | F6: DCA HOME* - Amt $ | M6: SLFRF | P6: TCAP thru CDFI | Z6: 6
C7: Historic Rehab Credit | F7: Other HOME* - Amt $ | M7: ERA2 | Z7: 7
C8: CDBG * | F8: Other HOME*- Source | H8: Specify Other HOME Source here | M8: FHA Risk Share | Z8: 8
C9: Kresge Foundation | F9: HOME-ARP* - Amt $ | M9: FHA Insured Mortgage | Z9: 9
C10: USDA 515 | M10: National Housing Trust Fund * | Z10: 10
C11: USDA 538 | F11: Other Type of FEDERAL Funding * - describe type/program here | M11: State Housing Trust Fund | Z11: 11
C12: USDA PBRA | F12: Specify Source/Administrator of Other FEDERAL Funding here | M12: Replacement Housing Funds | Z12: 12
C13: Section 8 PBRA * | M13: McKinney-Vento Homeless | Z13: 13
C14: FHLB / AHP * | F14: Specify Source/Administrator of Other STATE/LOCAL Funding here | M14: Neigborhood Stabilization Program * | Z14: 14
C15: NAHASDA | F15: Other PBRA*- Source: | H15: Specify Other PBRA Source here | M15: HUD CHOICE Neighborhoods (HOPE VI) | Z15: 15
C16: Taxable Bonds | F16: HUD Sect 202 Supportive Housing for Elderly | M16: HUD Rental Assistance Deonstration (RAD) * | Z16: 16
C17: Tax Exempt Bond Allocation | F17: HUD Sect 811 Supportive Housing for Persons w/ Disabilities | M17: CDFI Capital Magnet Fund (Treasury Dept) | Z17: 17
B18: TE Bond Allocation - Amt $ | M18: Veterans Affairs Supportive Housing (VASH) | Z18: 18
B19: *This source may possibly trigger Uniform Relocation Act and/or HUD 104(d) reqmts. Check with source. For DCA HOME, refer to Relocation Manual. DCA HOME amount must be from DCA Consent Letter. | Z19: 19
Z20: 20
A21: II. | B21: CONSTRUCTION FINANCING | S21: =B21 -> CONSTRUCTION FINANCING | Z21: 21
Z22: 22
B23: Financing Type | G23: Name of Financing Entity | L23: Amount ($) | N23: Effective Interest Rate | P23: Term (In Months) | S23: DCA COMMENTS - DCA Use Only | Z23: 23 | AZ23: ConstA
B24: Mortgage A | G24: Sterling Bank | L24: 16610244 | N24: 0.0725 | P24: 24 | Y24: ConstA | Z24: 24 | AZ24: ConstB
B25: Mortgage B | Y25: ConstB | Z25: 25 | AZ25: ConstC
B26: Mortgage C | Y26: ConstC | Z26: 26 | AZ26: Const_FedGrant
B27: Federal Grant | Y27: Const_FedGrant | Z27: 27 | AZ27: Const_StateLocalGrant
B28: State, Local, or Private Grant | Y28: Const_StateLocalGrant | Z28: 28 | AZ28: Const_DDF
B29: Deferred Developer Fees | Y29: Const_DDF | Z29: 29 | AZ29: Const_FedEquity
B30: Federal Housing Credit Equity | G30: Affordable Equity Partners, Inc | L30: 1052789 | Y30: Const_FedEquity | Z30: 30 | AZ30: Const_StateEquity
B31: State Housing Credit Equity | G31: Affordable Equity Partners, Inc | L31: 580500 | Y31: Const_StateEquity | Z31: 31 | AZ31: Const_Other1
B32: Other Type (specify) | Y32: Const_Other1 | Z32: 32 | AZ32: Const_Other2
B33: Other Type (specify) | Y33: Const_Other2 | Z33: 33 | AZ33: Const_Other3
B34: Other Type (specify) | Y34: Const_Other3 | Z34: 34
B35: Total Construction Financing: | L35: =SUM(L24:L34) -> 18243533 | Z35: 35
B36: Total Construction Period Costs from Development Budget: | L36: ='Part III-A-Uses of Funds'!$G$147-'Part III-A-Uses of Funds'!$G$103-'Part III-A-Uses of Funds'!$G$109-'Part III-A-Uses of Funds'!$G$130-'Part III-A-Uses of Funds'!$G$131-'Part III-A-Uses of Funds'!$G$133-'Part III-A-Uses of Funds'!$G$127+'Part III-A-Uses of Funds'!$F$123 -> 18243533 | Z36: 36
B37: Surplus / (Shortage) of Construction funds to Construction costs: | L37: =L35-L36 -> 0 | Z37: 37
Z38: 38
A39: III. | B39: PERMANENT FINANCING | S39: =B39 -> PERMANENT FINANCING | Z39: 39
K40: Effective | L40: Term | M40: Amort. | P40: Annual Debt Service in Year One | Z40: 40
...

Sheet Part III B-USDA 538 Loan
A1: =CONCATENATE("PART III B: USD 538 LOAN"," - ",#REF!," ",#REF!,", ",#REF!,", ",#REF!," County") -> #REF!
A3: I. Data Input
A5: Loan Amount: | D5: =IF(C5>1500000,1500000,0) -> 0 | E5: =IF(C5>1500000,C5-1500000,0) -> 0
A6: Interest Rate: | B6: USDA Spread | C6: 0 | D6: (aka Interest Assistance Rate in USDA Handbook)
B7: Effective Rate | D7: (Effective Interest Assistance Rate in USDA Handbook)
A8: USDA Annual Fee | C8: 0 | D8: (per annum)
A9: Loan Term (yrs)
A10: Amortization Pd (yrs)
A11: Annual P & I | C11: =PMT(C7/12,C10*12,-C5,0,0)*12 -> #NUM! | D11: =PMT($C$7/12,$C$10*12,-D5,0,0)*12 -> #NUM! | E11: =PMT($C$7/12,$C$10*12,-E5,0,0)*12 -> #NUM!
A12: Monthly P & I | C12: =C11/12 -> #NUM! | D12: =D11/12 -> #NUM! | E12: =E11/12 -> #NUM!
A14: II. Interest Credit / USDA Annual Guaranty Fee
A16: Year | B16: Interest Credit | C16: Guarantee Fee | D16: Annual Debt Svc
A17: 1 | B17: =IF(A17>$C$9,0,SUM(C64:C75)*($C$6/$C$7)) -> 0 | C17: =IF(A17>C9,0,(E63+K63)*$C$8) -> 0 | D17: =IF(A17>$C$9,0,$C$11+C17) -> 0
A18: 2 | B18: =IF(A18>C9,0,SUM(C76:C87)*($C$6/$C$7)) -> 0 | C18: =IF(A18>C9,0,(E75+K75)*$C$8) -> 0 | D18: =IF(A18>$C$9,0,$C$11+C18) -> 0
A19: 3 | B19: =IF(A19>C9,0,SUM(C88:C99)*($C$6/$C$7)) -> 0 | C19: =IF(A19>C9,0,(E87+K87)*$C$8) -> 0 | D19: =IF(A19>$C$9,0,$C$11+C19) -> 0
A20: 4 | B20: =IF(A20>C9,0,SUM(C100:C111)*($C$6/$C$7)) -> 0 | C20: =IF(A20>C9,0,(E99+K99)*$C$8) -> 0 | D20: =IF(A20>$C$9,0,$C$11+C20) -> 0
A21: 5 | B21: =IF(A21>C9,0,SUM(C112:C123)*($C$6/$C$7)) -> 0 | C21: =IF(A21>C9,0,(E111+K111)*$C$8) -> 0 | D21: =IF(A21>$C$9,0,$C$11+C21) -> 0
A22: 6 | B22: =IF(A22>C9,0,SUM(C124:C135)*($C$6/$C$7)) -> 0 | C22: =IF(A22>C9,0,(E123+K123)*$C$8) -> 0 | D22: =IF(A22>$C$9,0,$C$11+C22) -> 0
A23: 7 | B23: =IF(A23>C9,0,SUM(C136:C147)*($C$6/$C$7)) -> 0 | C23: =IF(A23>C9,0,(E135+K135)*$C$8) -> 0 | D23: =IF(A23>$C$9,0,$C$11+C23) -> 0
A24: 8 | B24: =IF(A24>C9,0,SUM(C148:C159)*($C$6/$C$7)) -> 0 | C24: =IF(A24>C9,0,(E147+K147)*$C$8) -> 0 | D24: =IF(A24>$C$9,0,$C$11+C24) -> 0
A25: 9 | B25: =IF(A25>C9,0,SUM(C160:C171)*($C$6/$C$7)) -> 0 | C25: =IF(A25>C9,0,(E159+K159)*$C$8) -> 0 | D25: =IF(A25>$C$9,0,$C$11+C25) -> 0
A26: 10 | B26: =IF(A26>C9,0,SUM(C172:C183)*($C$6/$C$7)) -> 0 | C26: =IF(A26>C9,0,(E171+K171)*$C$8) -> 0 | D26: =IF(A26>$C$9,0,$C$11+C26) -> 0
A27: 11 | B27: =IF(A27>C9,0,SUM(C184:C195)*($C$6/$C$7)) -> 0 | C27: =IF(A27>C9,0,(E183+K183)*$C$8) -> 0 | D27: =IF(A27>$C$9,0,$C$11+C27) -> 0
A28: 12 | B28: =IF(A28>C9,0,SUM(C196:C207)*($C$6/$C$7)) -> 0 | C28: =IF(A28>C9,0,(E195+K195)*$C$8) -> 0 | D28: =IF(A28>$C$9,0,$C$11+C28) -> 0
A29: 13 | B29: =IF(A29>C9,0,SUM(C208:C219)*($C$6/$C$7)) -> 0 | C29: =IF(A29>C9,0,(E207+K207)*$C$8) -> 0 | D29: =IF(A29>$C$9,0,$C$11+C29) -> 0
A30: 14 | B30: =IF(A30>C9,0,SUM(C220:C231)*($C$6/$C$7)) -> 0 | C30: =IF(A30>C9,0,(E219+K219)*$C$8) -> 0 | D30: =IF(A30>$C$9,0,$C$11+C30) -> 0
A31: 15 | B31: =IF(A31>C9,0,SUM(C232:C243)*($C$6/$C$7)) -> 0 | C31: =IF(A31>C9,0,(E231+K231)*$C$8) -> 0 | D31: =IF(A31>$C$9,0,$C$11+C31) -> 0
A32: 16 | B32: =IF(A32>C9,0,SUM(C244:C255)*($C$6/$C$7)) -> 0 | C32: =IF(A32>C9,0,(E243+K243)*$C$8) -> 0 | D32: =IF(A32>$C$9,0,$C$11+C32) -> 0
A33: 17 | B33: =IF(A33>C9,0,SUM(C256:C267)*($C$6/$C$7)) -> 0 | C33: =IF(A33>C9,0,(E255+K255)*$C$8) -> 0 | D33: =IF(A33>$C$9,0,$C$11+C33) -> 0
A34: 18 | B34: =IF(A34>C9,0,SUM(C268:C279)*($C$6/$C$7)) -> 0 | C34: =IF(A34>C9,0,(E267+K267)*$C$8) -> 0 | D34: =IF(A34>$C$9,0,$C$11+C34) -> 0
A35: 19 | B35: =IF(A35>C9,0,SUM(C280:C291)*($C$6/$C$7)) -> 0 | C35: =IF(A35>C9,0,(E279+K279)*$C$8) -> 0 | D35: =IF(A35>$C$9,0,$C$11+C35) -> 0
A36: 20 | B36: =IF(A36>C9,0,SUM(C292:C303)*($C$6/$C$7)) -> 0 | C36: =IF(A36>C9,0,(E291+K291)*$C$8) -> 0 | D36: =IF(A36>$C$9,0,$C$11+C36) -> 0
A37: 21 | B37: =IF(A37>C9,0,SUM(C293:C304)*($C$6/$C$7)) -> 0 | C37: =IF(A37>C9,0,(E303+K303)*$C$8) -> 0 | D37: =IF(A37>$C$9,0,$C$11+C37) -> 0
A38: 22 | B38: =IF(A38>C9,0,SUM(C294:C305)*($C$6/$C$7)) -> 0 | C38: =IF(A38>C9,0,(E315+K315)*$C$8) -> 0 | D38: =IF(A38>$C$9,0,$C$11+C38) -> 0
A39: 23 | B39: =IF(A39>C9,0,SUM(C295:C306)*($C$6/$C$7)) -> 0 | C39: =IF(A39>C9,0,(E327+K327)*$C$8) -> 0 | D39: =IF(A39>$C$9,0,$C$11+C39) -> 0
A40: 24 | B40: =IF(A40>C9,0,SUM(C296:C307)*($C$6/$C$7)) -> 0 | C40: =IF(A40>C9,0,(E339+K339)*$C$8) -> 0 | D40: =IF(A40>$C$9,0,$C$11+C40) -> 0
A41: 25 | B41: =IF(A41>C9,0,SUM(C297:C308)*($C$6/$C$7)) -> 0 | C41: =IF(A41>C9,0,(E351+K351)*$C$8) -> 0 | D41: =IF(A41>$C$9,0,$C$11+C41) -> 0
A42: 26 | B42: =IF(A42>C9,0,SUM(C298:C309)*($C$6/$C$7)) -> 0 | C42: =IF(A42>C9,0,(E363+K363)*$C$8) -> 0 | D42: =IF(A42>$C$9,0,$C$11+C42) -> 0
A43: 27 | B43: =IF(A43>C9,0,SUM(C299:C310)*($C$6/$C$7)) -> 0 | C43: =IF(A43>C9,0,(E375+K375)*$C$8) -> 0 | D43: =IF(A43>$C$9,0,$C$11+C43) -> 0
A44: 28 | B44: =IF(A44>C9,0,SUM(C300:C311)*($C$6/$C$7)) -> 0 | C44: =IF(A44>C9,0,(E387+K387)*$C$8) -> 0 | D44: =IF(A44>$C$9,0,$C$11+C44) -> 0
...

Sheet Part III C-HUD Insured Loan
A1: =CONCATENATE("PART III C - HUD INSURED LOAN"," - ",#REF!," ",#REF!,", ",#REF!,", ",#REF!," County") -> #REF!
A3: I. Data Input
A5: Loan Amount: | E5: NOTE: If this section is completed, then Applicant must also complete the "Additional HUD Requirements" section in the Threshold Criteria tab.
A7: Interest Rate: | C7: Investor Rate
C8: Servicing Fee
C9: GNMA Gty Fee
C10: Effective Rate | D10: =D7+D8+D9 -> 0
A12: HUD Mortgage Insurance Premium | E12: per annum
A14: Loan Term | E14: years
A16: Amortization Period | E16: years
A18: Annual Debt Service at Effective Rate | D18: =PMT(D10/12,D16*12,-D5,0,0)*12 -> #NUM! | E18: (Excluding MIP)
A20: Monthly Debt Service at Effective Rate | D20: =D18/12 -> #NUM! | E20: (Excluding MIP)
A24: II. HUD Mortgage Insurance Premium / Debt Service
C26: Annual Debt Svc | F26: Annual Debt Svc
A27: Year | B27: MIP | D27: Year | E27: MIP
A28: 1 | B28: =IF(A28>D14,0,E55*$D$12) -> 0 | C28: =IF(A28>$D$14,0,$D$18+B28) -> 0 | D28: 21 | E28: =IF(D28>$D$14,0,E295*$D$12) -> 0 | F28: =IF(D28>$D$14,0,$D$18+E28) -> 0
A29: 2 | B29: =IF(A29>D14,0,E67*$D$12) -> 0 | C29: =IF(A29>$D$14,0,$D$18+B29) -> 0 | D29: 22 | E29: =IF(D29>$D$14,0,E307*$D$12) -> 0 | F29: =IF(D29>$D$14,0,$D$18+E29) -> 0
A30: 3 | B30: =IF(A30>D14,0,E79*$D$12) -> 0 | C30: =IF(A30>$D$14,0,$D$18+B30) -> 0 | D30: 23 | E30: =IF(D30>$D$14,0,E319*$D$12) -> 0 | F30: =IF(D30>$D$14,0,$D$18+E30) -> 0
A31: 4 | B31: =IF(A31>D14,0,E91*$D$12) -> 0 | C31: =IF(A31>$D$14,0,$D$18+B31) -> 0 | D31: 24 | E31: =IF(D31>$D$14,0,E331*$D$12) -> 0 | F31: =IF(D31>$D$14,0,$D$18+E31) -> 0
A32: 5 | B32: =IF(A32>D14,0,E103*$D$12) -> 0 | C32: =IF(A32>$D$14,0,$D$18+B32) -> 0 | D32: 25 | E32: =IF(D32>$D$14,0,E343*$D$12) -> 0 | F32: =IF(D32>$D$14,0,$D$18+E32) -> 0
A33: 6 | B33: =IF(A33>D14,0,E115*$D$12) -> 0 | C33: =IF(A33>$D$14,0,$D$18+B33) -> 0 | D33: 26 | E33: =IF(D33>$D$14,0,E355*$D$12) -> 0 | F33: =IF(D33>$D$14,0,$D$18+E33) -> 0
A34: 7 | B34: =IF(A34>D14,0,E127*$D$12) -> 0 | C34: =IF(A34>$D$14,0,$D$18+B34) -> 0 | D34: 27 | E34: =IF(D34>$D$14,0,E367*$D$12) -> 0 | F34: =IF(D34>$D$14,0,$D$18+E34) -> 0
A35: 8 | B35: =IF(A35>D14,0,E139*$D$12) -> 0 | C35: =IF(A35>$D$14,0,$D$18+B35) -> 0 | D35: 28 | E35: =IF(D35>$D$14,0,E379*$D$12) -> 0 | F35: =IF(D35>$D$14,0,$D$18+E35) -> 0
A36: 9 | B36: =IF(A36>D14,0,E151*$D$12) -> 0 | C36: =IF(A36>$D$14,0,$D$18+B36) -> 0 | D36: 29 | E36: =IF(D36>$D$14,0,E391*$D$12) -> 0 | F36: =IF(D36>$D$14,0,$D$18+E36) -> 0
A37: 10 | B37: =IF(A37>D14,0,E163*$D$12) -> 0 | C37: =IF(A37>$D$14,0,$D$18+B37) -> 0 | D37: 30 | E37: =IF(D37>$D$14,0,E403*$D$12) -> 0 | F37: =IF(D37>$D$14,0,$D$18+E37) -> 0
A38: 11 | B38: =IF(A38>D14,0,E175*$D$12) -> 0 | C38: =IF(A38>$D$14,0,$D$18+B38) -> 0 | D38: 31 | E38: =IF(D38>$D$14,0,E415*$D$12) -> 0 | F38: =IF(D38>$D$14,0,$D$18+E38) -> 0
A39: 12 | B39: =IF(A39>D14,0,E187*$D$12) -> 0 | C39: =IF(A39>$D$14,0,$D$18+B39) -> 0 | D39: 32 | E39: =IF(D39>$D$14,0,E427*$D$12) -> 0 | F39: =IF(D39>$D$14,0,$D$18+E39) -> 0
A40: 13 | B40: =IF(A40>D14,0,E199*$D$12) -> 0 | C40: =IF(A40>$D$14,0,$D$18+B40) -> 0 | D40: 33 | E40: =IF(D40>$D$14,0,E439*$D$12) -> 0 | F40: =IF(D40>$D$14,0,$D$18+E40) -> 0
A41: 14 | B41: =IF(A41>D14,0,E211*$D$12) -> 0 | C41: =IF(A41>$D$14,0,$D$18+B41) -> 0 | D41: 34 | E41: =IF(D41>$D$14,0,E451*$D$12) -> 0 | F41: =IF(D41>$D$14,0,$D$18+E41) -> 0
A42: 15 | B42: =IF(A42>D14,0,E223*$D$12) -> 0 | C42: =IF(A42>$D$14,0,$D$18+B42) -> 0 | D42: 35 | E42: =IF(D42>$D$14,0,E463*$D$12) -> 0 | F42: =IF(D42>$D$14,0,$D$18+E42) -> 0
A43: 16 | B43: =IF(A43>D14,0,E235*$D$12) -> 0 | C43: =IF(A43>$D$14,0,$D$18+B43) -> 0 | D43: 36 | E43: =IF(D43>$D$14,0,E475*$D$12) -> 0 | F43: =IF(D43>$D$14,0,$D$18+E43) -> 0
A44: 17 | B44: =IF(A44>D14,0,E247*$D$12) -> 0 | C44: =IF(A44>$D$14,0,$D$18+B44) -> 0 | D44: 37 | E44: =IF(D44>$D$14,0,E487*$D$12) -> 0 | F44: =IF(D44>$D$14,0,$D$18+E44) -> 0
A45: 18 | B45: =IF(A45>D14,0,E259*$D$12) -> 0 | C45: =IF(A45>$D$14,0,$D$18+B45) -> 0 | D45: 38 | E45: =IF(D45>$D$14,0,E499*$D$12) -> 0 | F45: =IF(D45>$D$14,0,$D$18+E45) -> 0
A46: 19 | B46: =IF(A46>D14,0,E271*$D$12) -> 0 | C46: =IF(A46>$D$14,0,$D$18+B46) -> 0 | D46: 39 | E46: =IF(D46>$D$14,0,E511*$D$12) -> 0 | F46: =IF(D46>$D$14,0,$D$18+E46) -> 0
A47: 20 | B47: =IF(A47>D14,0,E283*$D$12) -> 0 | C47: =IF(A47>$D$14,0,$D$18+B47) -> 0 | D47: 40 | E47: =IF(D47>$D$14,0,E523*$D$12) -> 0 | F47: =IF(D47>$D$14,0,$D$18+E47) -> 0
A50: =CONCATENATE(#REF!," ",#REF!,", ",#REF!,", ",#REF!," County") -> #REF!
A51: III. Amortization Schedule
A53: Month | B53: P&I Payment | C53: Interest | D53: Principal | E53: Balance | F53: Year
A55: Close | E55: =D5 -> 0
A56: 1 | B56: =IF(A56>12*$D$14,0,$D$20) -> 0 | C56: =IF(A56>12*$D$14,0,E55*$D$10/12) -> 0 | D56: =IF(A56>12*$D$14,0,B56-C56) -> 0 | E56: =IF(A56>12*$D$14,0,E55-D56) -> 0
...

Sheet Part III-A-Uses of Funds
G1: TotalCost | J1: NCBasis | M1: AcqBasis | N1: FedEquityFactor | P1: RehabBasis | Q1: StateEquityFactor | S1: AmortizableBasis | BA1: 1
A2: =CONCATENATE("PART THREE (A): USES OF FUNDS"," - ",'Part I-Project Identification'!$O$7," ",'Part I-Project Identification'!$F$27,", ",'Part I-Project Identification'!F28,", ",'Part I-Project Identification'!J28," County") -> PART THREE (A): USES OF FUNDS - 2026-0xx Westchester Village II, Jonesboro, Clayton County | W2: =A2 -> PART THREE (A): USES OF FUNDS - 2026-0xx Westchester Village II, Jonesboro, Clayton County | BA2: 2
BA3: 3
BA4: 4
BA5: 5
A6: I. | B6: DEVELOPMENT BUDGET | D6: ='Part I-Project Identification'!A6 -> May XX, 2026 | J6: New Construction Basis | M6: Acquisition Basis | P6: Rehabilitation Basis | S6: Amortizable or Non-Depreciable Basis | V6: =B6 -> DEVELOPMENT BUDGET | BA6: 6
G7: TOTAL COST | V7: DCA COMMENTS - DCA Use Only | BA7: 7
B8: PRE-DEVELOPMENT COSTS | O8: =B8 -> PRE-DEVELOPMENT COSTS | W8: =B8 -> PRE-DEVELOPMENT COSTS | BA8: 8
B9: Property Appraisal | G9: 12000 | J9: 12000 | BA9: 9
B10: Market Study | G10: 12000 | J10: 12000 | BA10: 10
B11: Environmental Report(s) | G11: 20000 | J11: 20000 | BA11: 11
B12: Soil Borings | G12: 20000 | J12: 20000 | BA12: 12
B13: Boundary and Topographical Survey | G13: 25000 | J13: 25000 | BA13: 13
B14: Zoning/Site Plan Fees | BA14: 14
A15: =IF(AND(G15>0,OR(C15="",C15="<Enter detailed description here; use Comments section if needed>")),"X","") | B15: Othr PD1 | C15: << Enter description here; provide detail & justification in tab Part III-b >> | U15: =IF(AND(G15>0,OR(C15="",C15="<Enter detailed description here; use Comments section if needed>")),"NO DESCRIPTION PROVIDED - please enter detailed description in Other box at left; use Comments section below if needed.","") | AZ15: Pre-Dev_Other1 | BA15: 15
A16: =IF(AND(G16>0,OR(C16="",C16="<Enter detailed description here; use Comments section if needed>")),"X","") | B16: Othr PD2 | C16: << Enter description here; provide detail & justification in tab Part III-b >> | U16: =IF(AND(G16>0,OR(C16="",C16="<Enter detailed description here; use Comments section if needed>")),"NO DESCRIPTION PROVIDED - please enter detailed description in Other box at left; use Comments section below if needed.","") | AZ16: Pre-Dev_Other2 | BA16: 16
A17: =IF(AND(G17>0,OR(C17="",C17="<Enter detailed description here; use Comments section if needed>")),"X","") | B17: Othr PD3 | C17: << Enter description here; provide detail & justification in tab Part III-b >> | U17: =IF(AND(G17>0,OR(C17="",C17="<Enter detailed description here; use Comments section if needed>")),"NO DESCRIPTION PROVIDED - please enter detailed description in Other box at left; use Comments section below if needed.","") | AZ17: Pre-Dev_Other3 | BA17: 17
F18: Subtotal | G18: =SUM(G9:G17) -> 89000 | J18: =SUM(J9:J17) -> 89000 | M18: =SUM(M9:M17) -> 0 | P18: =SUM(P9:P17) -> 0 | S18: =SUM(S9:S17) -> 0 | V18: =SUM(V9:V17) -> 0 | AZ18: Pre-Dev_Subtotal | BA18: 18
B19: ACQUISITION | O19: =B19 -> ACQUISITION | W19: =B19 -> ACQUISITION | BA19: 19
B20: Land | E20: Per acre: | F20: =IF('Part I-Project Identification'!$O$29="","",G20/'Part I-Project Identification'!$O$29) -> 0 | G20: 0 | S20: 0 | BA20: 20
B21: Site Demolition | BA21: 21
B22: Acquisition Legal Fees (if existing structures) | BA22: 22
B23: Existing Structures | BA23: 23
F24: Subtotal | G24: =SUM(G20:G23) -> 0 | M24: =SUM(M22:M23) -> 0 | S24: =SUM(S20:S23) -> 0 | V24: =SUM(V20:V23) -> 0 | AZ24: Acq_Subtotal | BA24: 24
B25: LAND IMPROVEMENTS | O25: =B25 -> LAND IMPROVEMENTS | W25: =B25 -> LAND IMPROVEMENTS | BA25: 25
B26: Site Construction (On-site) | E26: Per acre: | F26: =IF('Part I-Project Identification'!$O$29="","",G26/'Part I-Project Identification'!$O$29) -> 322580.65 | G26: 2400000 | J26: 2280000 | S26: 120000 | BA26: 26
B27: Site Construction (Off-site) | BA27: 27
F28: Subtotal | G28: =SUM(G26:G27) -> 2400000 | J28: =SUM(J26:J27) -> 2280000 | M28: =M26 -> 0 | P28: =P26 -> 0 | S28: =SUM(S26:S27) -> 120000 | V28: =SUM(V26:V27) -> 0 | AZ28: LandImp_Subtotal | BA28: 28
B29: STRUCTURES | O29: =B29 -> STRUCTURES | W29: =B29 -> STRUCTURES | BA29: 29
B30: Residential Structures - New Construction | G30: 9700000 | J30: 9700000 | BA30: 30
B31: Residential Structures - Rehab | BA31: 31
B32: Accessory Structures (community bldg, maintenance bldg, etc.) - New Constr | BA32: 32
B33: Accessory Structures (Community Service Facility) - New Constr | BA33: 33
B34: Accessory Structures (ie. community bldg, maintenance bldg, etc.) - Rehab | BA34: 34
B35: Accessory Structures (Community Service Facility) - Rehab | BA35: 35
F36: Subtotal | G36: =SUM(G30:G35) -> 9700000 | J36: =SUM(J30:J35) -> 9700000 | M36: =SUM(M30:M35) -> 0 | P36: =SUM(P30:P35) -> 0 | S36: =SUM(S30:S35) -> 0 | V36: =SUM(V30:V35) -> 0 | AZ36: Structures_Subtotal | BA36: 36
B37: CONTRACTOR SERVICES | D37: DCA Limit | F37: =SUM(F38:F40) -> 0.14 | G37: =IF(G38>E38,"Proposed Builder Profit exceeds DCA Maximum!!!",IF(G39>E39,"Proposed Builder Overhead exceeds DCA Maximum!!!",IF(G40>E40,"Proposed General Requirements exceeds DCA Maximum!!!",IF(G41>E41,"Proposed Contractor Services amount exceeds DCA Maximum!!!","")))) | O37: =B37 -> CONTRACTOR SERVICES | W37: =B37 -> CONTRACTOR SERVICES | BA37: 37
B38: Builder Profit: | D38: ='DCA Underwriting Assumptions'!$R$52 -> 0.06 | E38: =ROUNDDOWN(D38*(G28+G36),0) -> 726000 | F38: =IF(($G$28+$G$36)=0,0,G38/($G$28+$G$36)) -> 0.06 | G38: 726000 | J38: 726000 | BA38: 38
B39: Builder Overhead | D39: ='DCA Underwriting Assumptions'!$R$53 -> 0.02 | E39: =ROUNDDOWN(D39*(G28+G36),0) -> 242000 | F39: =IF(($G$28+$G$36)=0,0,G39/($G$28+$G$36)) -> 0.02 | G39: 242000 | J39: 242000 | BA39: 39
B40: General Requirements* | D40: ='DCA Underwriting Assumptions'!$R$54 -> 0.06 | E40: =ROUNDDOWN(D40*(G28+G36),0) -> 726000 | F40: =IF(($G$28+$G$36)=0,0,G40/($G$28+$G$36)) -> 0.06 | G40: 726000 | J40: 726000 | BA40: 40
...

Sheet Part III-B-Other Items
A1: =CONCATENATE("PART THREE (B) - OTHER COSTS"," - ",'Part I-Project Identification'!$O$7," - ",'Part I-Project Identification'!$F$27," - ",'Part I-Project Identification'!$F$28," - ",'Part I-Project Identification'!$J$28,", ","County") -> PART THREE (B) - OTHER COSTS - 2026-0xx - Westchester Village II - Jonesboro - Clayton, County | R1: 1
R2: 2
A3: DCA requires the Applicant provide a narrative for all "Other" development costs listed on Part IV-Uses of Funds. For any amounts shown below the Applicant needs to provide an explanation of the cost incurred by the development. The narrative should be a brief description for DCA intended to justify its inclusion as a valid development cost. Further, if the "Other" cost is included into eligible basis, a second narrative is required describing its justification into tax credit basis. Expand row size as needed to show text. | R3: 3
R4: 4
A5: DEVELOPMENT COST SCHEDULE Section Name Section's Other Line Item | F5: Description/Nature of Cost | H5: Basis Justification | R5: 5
R6: 6
R7: 7
A8: PRE-DEVELOPMENT COSTS | R8: 8
A9: ='Part III-A-Uses of Funds'!$C$15 -> << Enter description here; provide detail & justification in tab Part III-b >> | R9: 9
R10: 10
R11: 11
A12: Total Cost | B12: ='Part III-A-Uses of Funds'!$G$15 -> 0 | C12: Total Basis | D12: ='Part III-A-Uses of Funds'!$J$15+'Part III-A-Uses of Funds'!$M$15+'Part III-A-Uses of Funds'!$P$15 -> 0 | R12: 12
R13: 13
A14: ='Part III-A-Uses of Funds'!$C$16 -> << Enter description here; provide detail & justification in tab Part III-b >> | R14: 14
R15: 15
R16: 16
A17: Total Cost | B17: ='Part III-A-Uses of Funds'!$G$16 -> 0 | C17: Total Basis | D17: ='Part III-A-Uses of Funds'!$J$16+'Part III-A-Uses of Funds'!$M$16+'Part III-A-Uses of Funds'!$P$16 -> 0 | R17: 17
R18: 18
A19: ='Part III-A-Uses of Funds'!$C$17 -> << Enter description here; provide detail & justification in tab Part III-b >> | R19: 19
R20: 20
R21: 21
A22: Total Cost | B22: ='Part III-A-Uses of Funds'!$G$17 -> 0 | C22: Total Basis | D22: ='Part III-A-Uses of Funds'!$J$17+'Part III-A-Uses of Funds'!$M$17+'Part III-A-Uses of Funds'!$P$17 -> 0 | R22: 22
R23: 23
A24: OTHER CONSTRUCTION HARD COSTS | R24: 24
A25: ='Part III-A-Uses of Funds'!$C$46 -> << Enter description here; provide detail & justification in tab Part III-b >> | R25: 25
R26: 26
R27: 27
A28: Total Cost | B28: ='Part III-A-Uses of Funds'!$G$46 -> 0 | C28: Total Basis | D28: ='Part III-A-Uses of Funds'!$J$46+'Part III-A-Uses of Funds'!$M$46+'Part III-A-Uses of Funds'!$P$46 -> 0 | R28: 28
R29: 29
A30: CONSTRUCTION PERIOD FINANCING | R30: 30
A31: ='Part III-A-Uses of Funds'!$C$71 -> << Enter description here; provide detail & justification in tab Part III-b >> | R31: 31
R32: 32
R33: 33
A34: Total Cost | B34: ='Part III-A-Uses of Funds'!$G$71 -> 0 | C34: Total Basis | D34: ='Part III-A-Uses of Funds'!$J$71+'Part III-A-Uses of Funds'!$M$71+'Part III-A-Uses of Funds'!$P$71 -> 0 | R34: 34
R35: 35
A36: ='Part III-A-Uses of Funds'!$C$72 -> << Enter description here; provide detail & justification in tab Part III-b >> | R36: 36
R37: 37
R38: 38
A39: Total Cost | B39: ='Part III-A-Uses of Funds'!$G$72 -> 0 | C39: Total Basis | D39: ='Part III-A-Uses of Funds'!$J$72+'Part III-A-Uses of Funds'!$M$72+'Part III-A-Uses of Funds'!$P$72 -> 0 | R39: 39
R40: 40
...

Sheet Part IV-Utility Allowances
A1: =CONCATENATE("PART FOUR - UTILITY ALLOWANCES"," - ",'Part I-Project Identification'!$O$7," ",'Part I-Project Identification'!$F$27,", ",'Part I-Project Identification'!F28,", ",'Part I-Project Identification'!J28," County") -> PART FOUR - UTILITY ALLOWANCES - 2026-0xx Westchester Village II, Jonesboro, Clayton County | AA1: 1
AA2: 2
B3: ='Part I-Project Identification'!$A$6 -> May XX, 2026 | F3: DCA Utility Region: | I3: Local PHA | AA3: 3
AA4: 4
A5: Note: Elderly allowances cannot be used except at properties that have 100% HUD PBRA and satisfy the DCA definition of "Elderly". | AA5: 5
AA6: 6
A7: I. | B7: UTILITY ALLOWANCE SCHEDULE #1 | F7: Source of Utility Allowances | I7: Jonesboro Housing Authority | AA7: 7
F8: Date of Utility Allowances | I8: 4.1.2025 | K8: Structure | L8: Low-Rise Elevator | AA8: 8
AA9: 9
F10: Paid By (check one) | I10: Tenant-Paid Utility Allowances by Unit Size (# Bdrms) | AA10: 10
B11: Utility | D11: Fuel | F11: Tenant | G11: Owner | I11: Efficiency | J11: 1 | K11: 2 | L11: 3 | M11: 4 | AA11: 11
B12: Heat | D12: Electric Heat Pump | F12: X | J12: 50 | K12: 58 | AA12: 12
B13: Cooking | D13: Electric | F13: X | J13: 12 | K13: 14 | O13: Show Owner-paid utility amounts in the Operating Expense Budget in the Part VI tab. Do not enter Owner-paid utility amounts here in this chart. | AA13: 13
B14: Hot Water | D14: Electric | F14: X | J14: 19 | K14: 27 | AA14: 14
B15: Air Conditioning | D15: Electric | F15: X | J15: 18 | K15: 21 | AA15: 15
B16: Range/Microwave | D16: Electric | G16: X | AA16: 16
B17: Refrigerator | D17: Electric | G17: X | AA17: 17
B18: Other Electric | D18: Electric | F18: X | J18: 44 | K18: 58 | AA18: 18
B19: Water & Sewer | D19: Submetered*? | E19: Yes | F19: X | J19: 45 | K19: 56 | AA19: 19
B20: Refuse Collection | G20: X | AA20: 20
B21: Other: Mthly Base Rate | AA21: 21
B22: Mthly Gas Baseline Fee | D22: Gas | AA22: 22
B23: Monthly Electric BL Fee | D23: Electric | F23: X | J23: 14 | K23: 14 | AA23: 23
B24: Other: | C24: Senior Credit - GA Power | F24: X | J24: -24 | K24: -24 | AA24: 24
B25: Total Utility Allowance by Unit Size | I25: =IF(SUM(I12:I24)=0,0,IF(OR($D12="<<Select Fuel >>",$D13="<<Select Fuel >>",$D14="<<Select Fuel >>"),"Select Fuel",IF($E19="<Select>","Submeter?",SUM(I12:I24)))) -> 0 | J25: =IF(SUM(J12:J24)=0,0,IF(OR($D12="<<Select Fuel >>",$D13="<<Select Fuel >>",$D14="<<Select Fuel >>"),"Select Fuel",IF($E19="<Select>","Submeter?",SUM(J12:J24)))) -> 178 | K25: =IF(SUM(K12:K24)=0,0,IF(OR($D12="<<Select Fuel >>",$D13="<<Select Fuel >>",$D14="<<Select Fuel >>"),"Select Fuel",IF($E19="<Select>","Submeter?",SUM(K12:K24)))) -> 224 | L25: =IF(SUM(L12:L24)=0,0,IF(OR($D12="<<Select Fuel >>",$D13="<<Select Fuel >>",$D14="<<Select Fuel >>"),"Select Fuel",IF($E19="<Select>","Submeter?",SUM(L12:L24)))) -> 0 | M25: =IF(SUM(M12:M24)=0,0,IF(OR($D12="<<Select Fuel >>",$D13="<<Select Fuel >>",$D14="<<Select Fuel >>"),"Select Fuel",IF($E19="<Select>","Submeter?",SUM(M12:M24)))) -> 0 | AA25: 25
AA26: 26
A27: II. | B27: UTILITY ALLOWANCE SCHEDULE #2 | F27: Source of Utility Allowances | AA27: 27
F28: Date of Utility Allowances | K28: Structure | AA28: 28
AA29: 29
F30: Paid By (check one) | I30: Tenant-Paid Utility Allowances by Unit Size (# Bdrms) | AA30: 30
B31: Utility | D31: Fuel | F31: Tenant | G31: Owner | I31: Efficiency | J31: 1 | K31: 2 | L31: 3 | M31: 4 | AA31: 31
B32: Heat | AA32: 32
B33: Cooking | AA33: 33
B34: Hot Water | O34: Show Owner-paid utility amounts in the Operating Expense Budget in the Part VI tab. Do not enter Owner-paid utility amounts here in this chart. | AA34: 34
B35: Air Conditioning | D35: Electric | AA35: 35
B36: Range/Microwave | D36: Electric | AA36: 36
B37: Refrigerator | D37: Electric | AA37: 37
B38: Other Electric | D38: Electric | AA38: 38
B39: Water & Sewer | D39: Submetered*? | AA39: 39
B40: Refuse Collection | AA40: 40
...

Sheet Part V-Revenues & Expenses
B1: RentType | C1: Bdrms | D1: Baths | E1: Units | F1: Area/Expenses1 | G1: MaxGrossRent | H1: PropGrossRent | I1: Feed | J1: UA | K1: PBRA | L1: UnitMthlyRent/Expenses2 | M1: TotalMthlyRent | N1: EmployeeUnit | O1: UABuildDesignType | P1: Activity | Q1: Historic/Expenses3 | OZ1: 1
A2: =CONCATENATE("PART FOUR - PROJECTED REVENUES & EXPENSES"," - ",'Part I-Project Identification'!$O$7," ",'Part I-Project Identification'!$F$27,", ",'Part I-Project Identification'!F28,", ",'Part I-Project Identification'!J28," County") -> PART FOUR - PROJECTED REVENUES & EXPENSES - 2026-0xx Westchester Village II, Jonesboro, Clayton County | T2: =A2 -> PART FOUR - PROJECTED REVENUES & EXPENSES - 2026-0xx Westchester Village II, Jonesboro, Clayton County | OZ2: 2
OZ3: 3
A4: I. | B4: RENT SCHEDULE | D4: Do NOT cut/copy/paste cells in this tab. Complete ALL columns. For Common Space (CS) units, select "N/A-CS" for Rent Type and "Common Space" for Employee Unit. | O4: MSA/NonMSA: | P4: ='Part I-Project Identification'!$O$30 -> Atlanta-Sandy Springs-Marietta | T4: =B4 -> RENT SCHEDULE | JN4: 0 BR | JO4: 1 BR | JP4: 2 BR | JQ4: 3 BR | JR4: 4 BR | JS4: 0 BR | JT4: 1 BR | JU4: 2 BR | JV4: 3 BR | JW4: 4 BR | KH4: 0 BR | KI4: 1 BR | KJ4: 2 BR | KK4: 3 BR | KL4: 4 BR | KM4: 0 BR | KN4: 1 BR | KO4: 2 BR | KP4: 3 BR | KQ4: 4 BR | KR4: 0 BR | KS4: 1 BR | KT4: 2 BR | KU4: 3 BR | KV4: 4 BR | KW4: 0 BR | KX4: 1 BR | KY4: 2 BR | KZ4: 3 BR | LA4: 4 BR | LB4: 0 BR | LC4: 1 BR | LD4: 2 BR | LE4: 3 BR | LF4: 4 BR | LG4: 0 BR | LH4: 1 BR | LI4: 2 BR | LJ4: 3 BR | LK4: 4 BR | LL4: 0 BR | LM4: 1 BR | LN4: 2 BR | LO4: 3 BR | LP4: 4 BR | LQ4: 0 BR | LR4: 1 BR | LS4: 2 BR | LT4: 3 BR | LU4: 4 BR | LV4: 0 BR | LW4: 1 BR | LX4: 2 BR | LY4: 3 BR | LZ4: 4 BR | MA4: 0 BR | MB4: 1 BR | MC4: 2 BR | MD4: 3 BR | ME4: 4 BR | MF4: 0 BR | MG4: 1 BR | MH4: 2 BR | MI4: 3 BR | MJ4: 4 BR | MK4: 0 BR | ML4: 1 BR | MM4: 2 BR | MN4: 3 BR | MO4: 4 BR | NO4: Efficiency Nonhistoric Multifamily Rehab or Acq/Rehab Units | NP4: 1 BR NonhistoricMultifamily Rehab or Acq/Rehab Units | NQ4: 2 BR NonhistoricMultifamily Rehab or Acq/Rehab Units | NR4: 3 BR NonhistoricMultifamily Rehab or Acq/Rehab Units | NS4: 4 BR Nonhistoric Multifamily Rehab or Acq/Rehab Units | OZ4: 4
Q5: Certified Historic/ Deemed Historic? (See QAP) | X5: Efficiency 80% Units | Y5: 1 BR 80% Units | Z5: 2 BR 80% Units | AA5: 3 BR 80% Units | AB5: 4 BR 80% Units | AC5: Efficiency 70% Units | AD5: 1 BR 70% Units | AE5: 2 BR 70% Units | AF5: 3 BR 70% Units | AG5: 4 BR 70% Units | AH5: Efficiency 60% Units | AI5: 1 BR 60% Units | AJ5: 2 BR 60% Units | AK5: 3 BR 60% Units | AL5: 4 BR 60% Units | AM5: Efficiency 50% Units | AN5: 1 BR 50% Units | AO5: 2 BR 50% Units | AP5: 3 BR 50% Units | AQ5: 4 BR 50% Units | AR5: Efficiency 40% Units | AS5: 1 BR 40% Units | AT5: 2 BR 40% Units | AU5: 3 BR 40% Units | AV5: 4 BR 40% Units | AW5: Efficiency 30% Units | AX5: 1 BR 30% Units | AY5: 2 BR 30% Units | AZ5: 3 BR 30% Units | BA5: 4 BR 30% Units | BB5: Efficiency 20% Units | BC5: 1 BR 20% Units | BD5: 2 BR 20% Units | BE5: 3 BR 20% Units | BF5: 4 BR 20% Units | BG5: Efficiency Mkt Units | BH5: 1 BR Mkt Units | BI5: 2 BR Mkt Units | BJ5: 3 BR Mkt Units | BK5: 4 BR Mkt Units | BL5: Efficiency PBRA 20% Units | BM5: 1 BR PBRA 20% Units | BN5: 2 BR PBRA 20% Units | BO5: 3 BR PBRA 20% Units | BP5: 4 BR PBRA 20% Units | BQ5: Efficiency PBRA 30% Units | BR5: 1 BR PBRA 30% Units | BS5: 2 BR PBRA 30% Units | BT5: 3 BR PBRA 30% Units | BU5: 4 BR PBRA 30% Units | BV5: Efficiency PBRA 40% Units | BW5: 1 BR PBRA 40% Units | BX5: 2 BR PBRA 40% Units | BY5: 3 BR PBRA 40% Units | BZ5: 4 BR PBRA 40% Units | CA5: Efficiency PBRA 50% Units | CB5: 1 BR PBRA 50% Units | CC5: 2 BR PBRA 50% Units | CD5: 3 BR PBRA 50% Units | CE5: 4 BR PBRA 50% Units | CF5: Efficiency PBRA 60% Units | CG5: 1 BR PBRA 60% Units | CH5: 2 BR PBRA 60% Units | CI5: 3 BR PBRA 60% Units | CJ5: 4 BR PBRA 60% Units | CK5: Efficiency PBRA 70% Units | CL5: 1 BR PBRA 70% Units | CM5: 2 BR PBRA 70% Units | CN5: 3 BR PBRA 70% Units | CO5: 4 BR PBRA 70% Units | CP5: Efficiency PBRA 80% Units | CQ5: 1 BR PBRA 80% Units | CR5: 2 BR PBRA 80% Units | CS5: 3 BR PBRA 80% Units | CT5: 4 BR PBRA 80% Units | CU5: Efficiency PHA Oper Sub 20% Units | CV5: 1 BR PHA Oper Sub 20% Units | CW5: 2 BR PHA Oper Sub 20% Units | CX5: 3 BR PHA Oper Sub 20% Units | CY5: 4 BR PHA Oper Sub 20% Units | CZ5: Efficiency PHA Oper Sub 30% Units | DA5: 1 BR PHA Oper Sub 30% Units | DB5: 2 BR PHA Oper Sub 30% Units | DC5: 3 BR PHA Oper Sub 30% Units | DD5: 4 BR PHA Oper Sub 30% Units | DE5: Efficiency PHA Oper Sub 40% Units | DF5: 1 BR PHA Oper Sub 40% Units | DG5: 2 BR PHA Oper Sub 40% Units | DH5: 3 BR PHA Oper Sub 40% Units | DI5: 4 BR PHA Oper Sub 40% Units | DJ5: Efficiency PHA Oper Sub 50% Units | DK5: 1 BR PHA Oper Sub 50% Units | DL5: 2 BR PHA Oper Sub 50% Units | DM5: 3 BR PHA Oper Sub 50% Units | DN5: 4 BR PHA Oper Sub 50% Units | DO5: Efficiency PHA Oper Sub 60% Units | DP5: 1 BR PHA Oper Sub 60% Units | DQ5: 2 BR PHA Oper Sub 60% Units | DR5: 3 BR PHA Oper Sub 60% Units | DS5: 4 BR PHA Oper Sub 60% Units | DT5: Efficiency PHA Oper Sub 70% Units | DU5: 1 BR PHA Oper Sub 70% Units | DV5: 2 BR PHA Oper Sub 70% Units | DW5: 3 BR PHA Oper Sub 70% Units | DX5: 4 BR PHA Oper Sub 70% Units | DY5: Efficiency PHA Oper Sub 80% Units | DZ5: 1 BR PHA Oper Sub 80% Units | EA5: 2 BR PHA Oper Sub 80% Units | EB5: 3 BR PHA Oper Sub 80% Units | EC5: 4 BR PHA Oper Sub 80% Units | ED5: Efficiency PBV 20% Units | EE5: 1 BR PBV 20% Units | EF5: 2 BR PBV 20% Units | EG5: 3 BR PBV 20% Units | EH5: 4 BR PBV 20% Units | EI5: Efficiency PBV 30% Units | EJ5: 1 BR PBV 30% Units | EK5: 2 BR PBV 30% Units | EL5: 3 BR PBV 30% Units | EM5: 4 BR PBV 30% Units | EN5: Efficiency PBV 40% Units | EO5: 1 BR PBV 40% Units | EP5: 2 BR PBV 40% Units | EQ5: 3 BR PBV 40% Units | ER5: 4 BR PBV 40% Units | ES5: Efficiency PBV 50% Units | ET5: 1 BR PBV 50% Units | EU5: 2 BR PBV 50% Units | EV5: 3 BR PBV 50% Units | EW5: 4 BR PBV 50% Units | EX5: Efficiency PBV 60% Units | EY5: 1 BR PBV 60% Units | EZ5: 2 BR PBV 60% Units | FA5: 3 BR PBV 60% Units | FB5: 4 BR PBV 60% Units | FC5: Efficiency PBV 70% Units | FD5: 1 BR PBV 70% Units | FE5: 2 BR PBV 70% Units | FF5: 3 BR PBV 70% Units | FG5: 4 BR PBV 70% Units | FH5: Efficiency PBV 80% Units | FI5: 1 BR PBV 80% Units | FJ5: 2 BR PBV 80% Units | FK5: 3 BR PBV 80% Units | FL5: 4 BR PBV 80% Units | FM5: Efficiency Common Space Units | FN5: 1 BR Common Space Units | FO5: 2 BR Common Space Units | FP5: 3 BR Common Space Units | FQ5: 4 BR Common Space Units | FR5: Efficiency 80% SF | FS5: 1 BR 80% SF | FT5: 2 BR 80% SF | FU5: 3 BR 80% SF | FV5: 4 BR 80% SF | FW5: Efficiency 70% SF | FX5: 1 BR 70% SF | FY5: 2 BR 70% SF | FZ5: 3 BR 70% SF | GA5: 4 BR 70% SF | GB5: Efficiency 60% SF | GC5: 1 BR 60% SF | GD5: 2 BR 60% SF | GE5: 3 BR 60% SF | GF5: 4 BR 60% SF | GG5: Efficiency 50% SF | GH5: 1 BR 50% SF | GI5: 2 BR 50% SF | GJ5: 3 BR 50% SF | GK5: 4 BR 50% SF | GL5: Efficiency 40% SF | GM5: 1 BR 40% SF | GN5: 2 BR 40% SF | GO5: 3 BR 40% SF | GP5: 4 BR 40% SF | GQ5: Efficiency 30% SF | GR5: 1 BR 30% SF | GS5: 2 BR 30% SF | GT5: 3 BR 30% SF | GU5: 4 BR 30% SF | GV5: Efficiency 20% SF | GW5: 1 BR 20% SF | GX5: 2 BR 20% SF | GY5: 3 BR 20% SF | GZ5: 4 BR 20% SF | HA5: Efficiency Mkt SF | HB5: 1 BR Mkt SF | HC5: 2 BR Mkt SF | HD5: 3 BR Mkt SF | HE5: 4 BR Mkt SF | HF5: Efficiency PBRA SF | HG5: 1 BR PBRA SF | HH5: 2 BR PBRA SF | HI5: 3 BR PBRA SF | HJ5: 4 BR PBRA SF | HK5: Efficiency Common Space SF | HL5: 1 BR Common Space SF | HM5: 2 BR Common Space SF | HN5: 3 BR Common Space SF | HO5: 4 BR Common Space SF | HP5: Efficiency New Construction LI Units | HQ5: 1 BR New Construction LI Units | HR5: 2 BR New Construction LI Units | HS5: 3 BR New Construction LI Units | HT5: 4 BR New Construction LI Units | HU5: Efficiency New Construction Mkt Units | HV5: 1 BR New Construction Mkt Units | HW5: 2 BR New Construction Mkt Units | HX5: 3 BR New Construction Mkt Units | HY5: 4 BR New Construction Mkt Units | HZ5: Efficiency New Construction CS Units | IA5: 1 BR New Construction CS Units | IB5: 2 BR New Construction CS Units | IC5: 3 BR New Construction CS Units | ID5: 4 BR New Construction CS Units | IE5: Efficiency LI Acq/Rhb Units | IF5: 1 BR Acq/Rhb LI Units | IG5: 2 BR Acq/Rhb LI Units | IH5: 3 BR Acq/Rhb LI Units | II5: 4 BR Acq/Rhb LI Units | IJ5: Efficiency Acq/Rhb Mkt Units | IK5: 1 BR Acq/Rhb Mkt Units | IL5: 2 BR Acq/Rhb Mkt Units | IM5: 3 BR Acq/Rhb Mkt Units | IN5: 4 BR Acq/Rhb Mkt Units | IO5: Efficiency CS Acq/Rhb Units | IP5: 1 BR Acq/Rhb CS Units | IQ5: 2 BR Acq/Rhb CS Units | IR5: 3 BR Acq/Rhb CS Units | IS5: 4 BR Acq/Rhb CS Units | IT5: Efficiency Rehab LI Units | IU5: 1 BR Rehab LI Units | IV5: 2 BR Rehab LI Units | IW5: 3 BR Rehab LI Units | IX5: 4 BR Rehab LI Units | IY5: Efficiency Rehab Mkt Units | IZ5: 1 BR Rehab Mkt Units | JA5: 2 BR Rehab Mkt Units | JB5: 3 BR Rehab Mkt Units | JC5: 4 BR Rehab Mkt Units | JD5: Efficiency Rehab CS Units | JE5: 1 BR Rehab CS Units | JF5: 2 BR Rehab CS Units | JG5: 3 BR Rehab CS Units | JH5: 4 BR Rehab CS Units | MP5: Effic 120% NSP Units | MQ5: 1 BR 120% NSP Units | MR5: 2 BR 120% NSP Units | MS5: 3 BR 120% NSP Units | MT5: 4 BR 120% NSP Units | MU5: Effic 120% NSP SF | MV5: 1 BR 120% NSP SF | MW5: 2 BR 120% NSP SF | MX5: 3 BR 120% NSP SF | MY5: 4 BR 120% NSP SF | MZ5: Efficiency New Construction NSP 120% Units | NA5: 1 BR New Construction NSP 120% Units | NB5: 2 BR New Construction NSP 120% Units | NC5: 3 BR New Construction NSP 120% Units | ND5: 4 BR New Construction NSP 120% Units | NE5: Efficiency NSP 120% Acq/Rhb Units | NF5: 1 BR Acq/Rhb NSP 120% Units | NG5: 2 BR Acq/Rhb NSP 120% Units | NH5: 3 BR Acq/Rhb NSP 120% Units | NI5: 4 BR Acq/Rhb NSP 120% Units | NJ5: Efficiency Rehab NSP 120% Units | NK5: 1 BR Rehab NSP 120% Units | NL5: 2 BR Rehab NSP 120% Units | NM5: 3 BR Rehab NSP 120% Units | NN5: 4 BR Rehab NSP 120% Units | OZ5: 5
A6: =IF(A58>0,"Finish Row!","") | B6: A. HOME Projects: Fixed or Floating units? | G6: <Select> | H6: (Note: CS units are non-income-producing units) | K6: PBRA | L6: ='Part I-Project Identification'!$A$6 -> May XX, 2026 | O6: AMI (MTSP): | P6: 79900 | NT6: Efficiency Multifamily New Construction Units | NU6: 1 BR Multifamily New Construction Units | NV6: 2 BR Multifamily New Construction Units | NW6: 3 BR Multifamily New Construction Units | NX6: 4 BR Multifamily New Construction Units | NY6: Efficiency SF or Semi-Detached Nonhistoric Units | NZ6: 1 BR SF or Semi-Detached Nonhistoric Units | OA6: 2 BR SF or Semi-Detached Nonhistoric Units | OB6: 3 BR SF or Semi-Detached Nonhistoric Units | OC6: 4 BR SF or Semi-Detached Nonhistoric Units | OZ6: 6
B7: B. Are 100% of units HUD PBRA? | G7: <Select> | I7: Mandatory Fees Paid By Residents | J7: Utility | K7: Provider or | O7: Effective Date: | P7: 1.1.2026 | R7: Rehabs Only: | OZ7: 7
B8: Rent Type | J8: Allowance | K8: Operating | N8: AMI Source: | O8: Novogradac | S8: Rental | KH8: Efficiency | KI8: 1 BR | KJ8: 2 BR | KK8: 3 BR | KL8: 4 BR | KM8: Efficiency | KN8: 1 BR | KO8: 2 BR | KP8: 3 BR | KQ8: 4 BR | KR8: Efficiency | KS8: 1 BR | KT8: 2 BR | KU8: 3 BR | KV8: 4 BR | KW8: Efficiency | KX8: 1 BR | KY8: 2 BR | KZ8: 3 BR | LA8: 4 BR | LB8: Efficiency | LC8: 1 BR | LD8: 2 BR | LE8: 3 BR | LF8: 4 BR | LG8: Efficiency | LH8: 1 BR | LI8: 2 BR | LJ8: 3 BR | LK8: 4 BR | LL8: Efficiency | LM8: 1 BR | LN8: 2 BR | LO8: 3 BR | LP8: 4 BR | LQ8: Efficiency | LR8: 1 BR | LS8: 2 BR | LT8: 3 BR | LU8: 4 BR | LV8: Efficiency | LW8: 1 BR | LX8: 2 BR | LY8: 3 BR | LZ8: 4 BR | MA8: Efficiency | MB8: 1 BR | MC8: 2 BR | MD8: 3 BR | ME8: 4 BR | MF8: Efficiency | MG8: 1 BR | MH8: 2 BR | MI8: 3 BR | MJ8: 4 BR | MK8: Efficiency | ML8: 1 BR | MM8: 2 BR | MN8: 3 BR | MO8: 4 BR | OZ8: 8
B9: (Select) | C9: Nbr of | D9: No. of | E9: Unit | F9: Unit | G9: Max Gross Rent Limit | H9: Proposed | J9: (UA Schedule 1 UA, so over-write if UA Schedule 2 used) | K9: Subsidy *** | L9: Monthly Net Rent | N9: Employee | O9: UA Structure | P9: Type of Activity (INCL Adapative Reuse) | R9: Current | S9: Percent | JI9: 0 BR MF Units | JJ9: 1 BR | JK9: 2 BR | JL9: 3 BR | JM9: 4 BR | JN9: SF Det'd Units | JO9: SF Det'd Units | JP9: SF Det'd Units | JQ9: SF Det'd Units | JR9: SF Det'd Units | JS9: SF Det'd Hist Units | JT9: SF Det'd Hist Units | JU9: SF Det'd Hist Units | JV9: SF Det'd Hist Units | JW9: SF Det'd Hist Units | JX9: Efficiency | JY9: 1 BR | JZ9: 2 BR | KA9: 3 BR | KB9: 4 BR | KC9: Efficiency | KD9: 1 BR | KE9: 2 BR | KF9: 3 BR | KG9: 4 BR | KH9: Semi-Detached Units | KI9: Semi-Detached Units | KJ9: Semi-Detached Units | KK9: Semi-Detached Units | KL9: Semi-Detached Units | KM9: Semi-Detached Hist Units | KN9: Semi-Detached Hist Units | KO9: Semi-Detached Hist Units | KP9: Semi-Detached Hist Units | KQ9: Semi-Detached Hist Units | KR9: Row House/TH Units | KS9: Row House/TH Units | KT9: Row House/TH Units | KU9: Row House/TH Units | KV9: Row House/TH Units | KW9: Row House/TH Hist Units | KX9: Row House/TH Hist Units | KY9: Row House/TH Hist Units | KZ9: Row House/TH Hist Units | LA9: Row House/TH Hist Units | LB9: Low-Rise Apt Units | LC9: Low-Rise Apt Units | LD9: Low-Rise Apt Units | LE9: Low-Rise Apt Units | LF9: Low-Rise Apt Units | LG9: Low-Rise Elevator Units | LH9: Low-Rise Elevator Units | LI9: Low-Rise Elevator Units | LJ9: Low-Rise Elevator Units | LK9: Low-Rise Elevator Units | LL9: Low-Rise Apt Hist Units | LM9: Low-Rise Apt Hist Units | LN9: Low-Rise Apt Hist Units | LO9: Low-Rise Apt Hist Units | LP9: Low-Rise Apt Hist Units | LQ9: Low-Rise Elevator Hist Units | LR9: Low-Rise Elevator Hist Units | LS9: Low-Rise Elevator Hist Units | LT9: Low-Rise Elevator Hist Units | LU9: Low-Rise Elevator Hist Units | LV9: High-Rise Apt Units | LW9: High-Rise Apt Units | LX9: High-Rise Apt Units | LY9: High-Rise Apt Units | LZ9: High-Rise Apt Units | MA9: High-Rise Elevator Units | MB9: High-Rise Elevator Units | MC9: High-Rise Elevator Units | MD9: High-Rise Elevator Units | ME9: High-Rise Elevator Units | MF9: High-Rise Apt Hist Units | MG9: High-Rise Apt Hist Units | MH9: High-Rise Apt Hist Units | MI9: High-Rise Apt Hist Units | MJ9: High-Rise Apt Hist Units | MK9: High-Rise Elevator Hist Units | ML9: High-Rise Elevator Hist Units | MM9: High-Rise Elevator Hist Units | MN9: High-Rise Elevator Hist Units | MO9: High-Rise Elevator Hist Units | OZ9: 9
B10: Put AMIs Below Line | C10: Bdrms | D10: Baths | E10: Count | F10: Area | H10: Gross Rent | K10: (See note below) | L10: Per Unit | M10: Total | N10: Unit | O10: (Building Type) | R10: Rent | S10: Diff | T10: DCA COMMENTS | JJ10: MF Units | JK10: MF Units | JL10: MF Units | JM10: MF Units | JX10: MH Units | JY10: MH Units | JZ10: MH Units | KA10: MH Units | KB10: MH Units | KC10: MH Hist Units | KD10: MH Hist Units | KE10: MH Hist Units | KF10: MH Hist Units | KG10: MH Hist Units | OZ10: 10
